Workbook

Sheet งบแสดงฐานะการเงิน
A1: สำนักงานการตรวจเงินแผ่นดิน
A2: งบแสดงฐานะการเงิน
A3: ณ วันที่ 30 กันยายน 2565
G4: (หน่วย:บาท)
D5: หมายเหตุ | E5: 2565 | G5: 2564
A6: สินทรัพย์
B7: สินทรัพย์หมุนเวียน
C8: เงินสดและรายการเทียบเท่าเงินสด | D8: 5 | E8: =+'หมายเหตุ5-8'!D7 -> 7.5319646e+08 | G8: 7.2652975e+08
C9: ลูกหนี้อื่นระยะสั้น | D9: 6 | E9: =+'หมายเหตุ5-8'!D17 -> 61386070 | G9: 56353992
C10: เงินลงทุนระยะสั้น | D10: 7 | E10: =+'หมายเหตุ5-8'!D31 -> 300000000 | G10: 300000000
C11: งานบริการระหว่างทำ
C12: วัสดุคงเหลือ | E12: =715099.22+12032059.87 -> 12747159 | G12: 14273934
C13: สินทรัพย์หมุนเวียนอื่น | D13: 8 | E13: =+'หมายเหตุ5-8'!D37 -> 2104115.6 | G13: 258714.29
C14: รวมสินทรัพย์หมุนเวียน | E14: =SUM(E8:E13) -> 1.1294338e+09 | G14: =SUM(G8:G13) -> 1.0974164e+09
B15: สินทรัพย์ไม่หมุนเวียน
C16: ที่ดิน อาคารและอุปกรณ์ - สุทธิ | D16: 9 | E16: =+'หมายเหตุ9-12'!D12 -> 1.3377699e+09 | G16: 1.1741649e+09
C17: สินทรัพย์ไม่มีตัวตน - สุทฺธิ | D17: 10 | E17: =+'หมายเหตุ9-12'!D19 -> 4413242.4 | G17: 13450839
C18: สินทรัพย์ไม่หมุนเวียนอื่น | D18: 11 | E18: =+'หมายเหตุ9-12'!D27 -> 2.9451304e+08 | G18: 2.6539466e+08
C19: รวมสินทรัพย์ไม่หมุนเวียน | E19: =SUM(E16:E18) -> 1.6366962e+09 | G19: =SUM(G16:G18) -> 1.4530104e+09
A20: รวมสินทรัพย์ | E20: =+E14+E19 -> 2.76613e+09 | G20: =+G14+G19 -> 2.5504268e+09
A21: หนี้สินและสินทรัพย์สุทธิ/ส่วนทุน
A22: หนี้สิน
B23: หนี้สินหมุนเวียน
C24: เจ้าหนี้การค้า | E24: 41823944 | G24: 48499915
C25: เจ้าหนี้เงินโอนและรายการอุดหนุนระยะสั้น | D25: 12 | E25: =+'หมายเหตุ9-12'!D33 -> 57331541 | G25: 68779099
C26: เจ้าหนี้อื่นระยะสั้น | D26: 13 | E26: =+'หมายเหตุ13-17'!D8 -> 27084549 | G26: 24707126
C27: เงินรับฝากระยะสั้น | D27: 14 | E27: =+'หมายเหตุ13-17'!D15 -> 6815218.4 | G27: 6699759.1
C28: หนี้สินหมุนเวียนอื่น | D28: 15 | E28: =+'หมายเหตุ13-17'!D20 -> 38357.94 | G28: 73727.04
C29: รวมหนี้สินหมุนเวียน | E29: =SUM(E24:E28) -> 1.3309361e+08 | G29: =SUM(G24:G28) -> 1.4875963e+08
B30: หนี้สินไม่หมุนเวียน
C31: เงินทดรองราชการรับจากคลังระยะยาว | E31: 895000 | G31: 895000
C32: เงินรับฝากระยะยาว | D32: 16 | E32: =437202+2797162 -> 3234364 | G32: 531203
C33: รายได้รอการรับรู้ระยะยาว | E33: 30477.42 | G33: 36802.42
C34: หนี้สินไม่หมุนเวียนอื่น | D34: 17 | E34: =+'หมายเหตุ13-17'!D35 -> 39573438 | G34: 32105745
C35: รวมหนี้สินไม่หมุนเวียน | E35: =SUM(E31:E34) -> 43733279 | G35: =SUM(G31:G34) -> 33568751
A36: รวมหนี้สิน | E36: =+E29+E35 -> 1.7682689e+08 | G36: =+G29+G35 -> 1.8232838e+08
A37: สินทรัพย์สุทธิ/ส่วนทุน
C38: ทุน | E38: 5.6679933e+08 | G38: 5.6679933e+08
C39: รายได้สูงกว่าค่าใช้จ่ายสะสม | E39: =+งบแสดงการเปลี่ยนแปลง!E29 -> 2.0225037e+09 | G39: =+งบแสดงการเปลี่ยนแปลง!E18 -> 1.8012991e+09
A40: รวมสินทรัพย์สุทธิ/ส่วนทุน | E40: =+E38+E39 -> 2.5893031e+09 | G40: =+G38+G39 -> 2.3680984e+09
A41: รวมหนี้สินและสินทรัพย์สุทธิ/ส่วนทุน | E41: =+E36+E40 -> 2.76613e+09 | G41: =+G36+G40 -> 2.5504268e+09
A42: หมายเหตุประกอบงบการเงินเป็นส่วนหนึ่งของรายงานการเงินนี้
B44: ................................................... | E44: .......................................
B45: (นางสาวลักขณา กิตติอุดมเดช) | E45: (นายประจักษ์ บุญยัง)
B46: ผู้อำนวยการสำนักบัญชีและการคลัง | E46: ผู้ว่าการตรวจเงินแผ่นดิน

Sheet งบรายได้ค่าใช้จ่าย
A2: สำนักงานการตรวจเงินแผ่นดิน
A3: งบแสดงผลการดำเนินงานทางการเงิน
A4: สำหรับปีสิ้นสุดวันที่ 30 กันยายน 2565
G6: (หน่วย:บาท)
D7: หมายเหตุ | E7: 2565 | G7: 2564
A8: รายได้
C9: รายได้จากเงินงบประมาณ | D9: 18 | E9: =+'หมายเหตุ18-21'!D6 -> 3.2846453e+09 | G9: 3.2585948e+09
C10: รายได้จากการอุดหนุนและบริจาค | D10: 19 | E10: =+'หมายเหตุ18-21'!D12 -> 2.8214182e+08 | G10: 2.7845481e+08
C11: รายได้อื่น | D11: 20 | E11: =+'หมายเหตุ18-21'!D18 -> 3762376.1 | G11: 4711380.7
A12: รวมรายได้ | E12: =SUM(E9:E11) -> 3.5705495e+09 | G12: =SUM(G9:G11) -> 3.541761e+09
A14: ค่าใช้จ่าย
C15: ค่าใช้จ่ายบุคลากร | D15: 21 | E15: =+'หมายเหตุ18-21'!D39 -> 2.1958707e+09 | G15: 2.1751718e+09
C16: ค่าบำเหน็จบำนาญ | D16: 22 | E16: =+'หมายเหตุ22-24'!D11 -> 6.2126646e+08 | G16: 5.716668e+08
C17: ค่าตอบแทน | D17: 23 | E17: =+'หมายเหตุ22-24'!D18 -> 6078150 | G17: 5229504
C18: ค่าใช้สอย | D18: 24 | E18: =+'หมายเหตุ22-24'!D34 -> 2.5336652e+08 | G18: 2.4327549e+08
C19: ค่าวัสดุ | E19: =-715099.22+23386507.01-690 -> 22670718 | G19: 23317904
C20: ค่าสาธารณูปโภค | D20: 25 | E20: =+'หมายเหตุ25-29'!F8 -> 75979048 | G20: 68227463
C21: ค่าเสื่อมราคาและค่าตัดจำหน่าย | D21: 26 | E21: =+'หมายเหตุ25-29'!F15 -> 1.0148621e+08 | G21: =94040296.35+8325971.41 -> 1.0236627e+08
C22: ค่าใช้จ่ายอื่น | D22: 27 | E22: =+'หมายเหตุ25-29'!F21 -> 72621708 | G22: 9680712.9
A23: รวมค่าใช้จ่าย | E23: =SUM(E15:E22) -> 3.3493396e+09 | G23: =SUM(G15:G22) -> 3.1989359e+09
A24: รายได้สูงกว่าค่าใช้จ่ายสุทธิ | E24: =+E12-E23 -> 2.2120993e+08 | G24: =+G12-G23 -> 3.4282505e+08
A26: หมายเหตุประกอบงบการเงินเป็นส่วนหนึ่งของรายงานการเงินนี้
B29: ................................................... | E29: .......................................
B30: (นางสาวลักขณา กิตติอุดมเดช) | E30: (นายประจักษ์ บุญยัง)
B31: ผู้อำนวยการสำนักบัญชีและการคลัง | E31: ผู้ว่าการตรวจเงินแผ่นดิน
G34: 2

Sheet งบแสดงการเปลี่ยนแปลง
A2: สำนักงานการตรวจเงินแผ่นดิน
A3: งบแสดงการเปลี่ยนแปลงสินทรัพย์สุทธิ/ส่วนทุน
A4: สำหรับปีสิ้นสุดวันที่ 30 กันยายน 2565
G5: (หน่วย : บาท)
B6: หมายเหตุ | C6: ทุน | E6: รายได้สูง(ต่ำ) | G6: รวม
E7: กว่า | G7: สินทรัพย์สุทธิ/
E8: ค่าใช้จ่ายสะสม | G8: ส่วนทุน
A10: ยอดคงเหลือ ณ วันที่ 30 กันยายน 2563 - ตามที่รายงานไว้เดิม | C10: 5.6679933e+08 | E10: 1.458474e+09 | G10: =+C10+E10 -> 2.0252733e+09
A11: ผลสะสมจากการแก้ไขข้อผิดพลาดปีก่อน | C11: 0 | E11: 0 | G11: =+C11+E11 -> 0
A12: ผลสะสมจากการเปลี่ยนแปลงนโยบายบัญชี | C12: 0 | E12: 0 | G12: =+C12+E12 -> 0
A13: ยอดคงเหลือ ณ วันที่ 30 กันยายน 2563 - หลังการปรับปรุง | C13: =SUM(C10:C12) -> 5.6679933e+08 | E13: =SUM(E10:E12) -> 1.458474e+09 | G13: =SUM(G10:G12) -> 2.0252733e+09
A14: การเปลี่ยนแปลงในสินทรัพย์สุทธิ/ส่วนทุนในปี 2564
A15: การเปลี่ยนแปลงที่ทำให้ทุนเพิ่ม/ลด | C15: 0 | E15: 0 | G15: =+C15+E15 -> 0
A16: รายได้สูงกว่าค่าใช้จ่ายสำหรับงวด | C16: 0 | E16: =+งบรายได้ค่าใช้จ่าย!G24 -> 3.4282505e+08 | G16: =+C16+E16 -> 3.4282505e+08
A17: กำไร/ขาดทุน จากการปรับมูลค่าเงินลงทุน | C17: 0 | E17: 0 | G17: =+C17+E17 -> 0
A18: ยอดคงเหลือ ณ วันที่ 30 กันยายน 2564 | C18: =SUM(C13:C17) -> 5.6679933e+08 | E18: =SUM(E13:E17) -> 1.8012991e+09 | G18: =SUM(G13:G17) -> 2.3680984e+09
A21: ยอดคงเหลือ ณ วันที่ 30 กันยายน 2564- ตามที่รายงานไว้เดิม | C21: 5.6679933e+08 | E21: 1.8012991e+09 | G21: =+C21+E21 -> 2.3680984e+09
A22: ผลสะสมจากการแก้ไขข้อผิดพลาดปีก่อน | B22: 28 | C22: 0 | E22: -5241.12 | G22: =+C22+E22 -> -5241.12
A23: ผลสะสมจากการเปลี่ยนแปลงนโยบายบัญชี | C23: 0 | E23: 0 | G23: 0
A24: ยอดคงเหลือ ณ วันที่ 30 กันยายน 2564 - หลังการปรับปรุง | C24: =SUM(C21:C23) -> 5.6679933e+08 | E24: =SUM(E21:E23) -> 1.8012938e+09 | G24: =SUM(G21:G23) -> 2.3680931e+09
A25: การเปลี่ยนแปลงในสินทรัพย์สุทธิ/ส่วนทุนในปี 2565
A26: การเปลี่ยนแปลงที่ทำให้ทุนเพิ่ม/ลด | C26: 0 | E26: 0 | G26: =+C26+E26 -> 0
A27: รายได้สูงกว่าค่าใช้จ่ายสำหรับงวด | C27: 0 | E27: =+งบรายได้ค่าใช้จ่าย!E24 -> 2.2120993e+08 | G27: =+C27+E27 -> 2.2120993e+08
A28: กำไร/ขาดทุน จากการปรับมูลค่าเงินลงทุน | C28: 0 | E28: 0 | G28: =+C28+E28 -> 0
A29: ยอดคงเหลือ ณ วันที่ 30 กันยายน 2565 | C29: =SUM(C24:C28) -> 5.6679933e+08 | E29: =SUM(E24:E28) -> 2.0225037e+09 | G29: =SUM(G24:G28) -> 2.5893031e+09
G31: (หน่วย : บาท)
B32: หมายเหตุ | C32: ทุน | E32: รายได้สูง(ต่ำ) | G32: รวม
E33: กว่า | G33: สินทรัพย์สุทธิ/
E34: ค่าใช้จ่ายสะสม | G34: ส่วนทุน
A36: หมายเหตุประกอบงบการเงินเป็นส่วนหนึ่งของรายงานการเงินนี้
A39: ................................................... | D39: .......................................
A40: (นางสาวลักขณา กิตติอุดมเดช) | D40: (นายประจักษ์ บุญยัง)
A41: ผู้อำนวยการสำนักบัญชีและการคลัง | D41: ผู้ว่าการตรวจเงินแผ่นดิน
G43: 3
E47: 0

Sheet หมายเหตุ5-8
F2: (หน่วย:บาท)
A3: หมายเหตุ 5 - เงินสดและรายการเทียบเท่าเงินสด | D3: 2565 | F3: 2564
B4: เงินสดในมือ | D4: 0 | F4: 0
B5: เงินทดรองราชการ | D5: 895000 | F5: 895000
B6: เงินฝากสถาบันการเงิน | D6: 7.5230146e+08 | F6: 7.2563475e+08
B7: รวม เงินสดและรายการเทียบเท่าเงินสด | D7: =SUM(D4:D6) -> 7.5319646e+08 | F7: =SUM(F4:F6) -> 7.2652975e+08
F9: (หน่วย:บาท)
A10: หมายเหตุ 6 - ลูกหนี้อื่นระยะสั้น | D10: 2565 | F10: 2564
B11: ลูกหนี้เงินในงบประมาณ | D11: 396672 | F11: 299665
B12: ลูกหนี้เงินยืมนอกงบประมาณ | D12: 1460473.1 | F12: 252694.64
B13: เงินจ่ายล่วงหน้าค่าก่อสร้างอาคาร สตง. | D13: 58764840 | F13: 55062090
B14: รายได้ค้างรับ | D14: 723729.02 | F14: 665815.4
C15: รวม | D15: =SUM(D11:D14) -> 61345714 | F15: =SUM(F11:F14) -> 56280265
B16: ลูกหนี้อื่น-บุคคลภายนอก | D16: =1998.18+38357.94 -> 40356.12 | F16: 73727.04
B17: รวม ลูกหนี้อื่นระยะสั้น | D17: =+D15+D16 -> 61386070 | F17: =+F15+F16 -> 56353992
C19: ลูกหนี้เงินยืม ณ วันสิ้นปี แยกตามอายุหนี้ ดังนี้
C20: ยังไม่ถึงกำหนดชำระ
C21: ลูกหนี้เงินในงบประมาณ | D21: 396672 | F21: 299665
C22: ลูกหนี้เงินยืมนอกงบประมาณ | D22: 1460473.1 | F22: 252694.64
D23: =SUM(D21:D22) -> 1857145.1 | F23: =SUM(F21:F22) -> 552359.64
F25: (หน่วย:บาท)
A26: หมายเหตุ 7 - เงินลงทุนระยะสั้น | D26: 2565 | F26: 2564
B27: เงินฝากธนาคารประจำ 6 เดือน | D27: 300000000 | F27: 300000000
B28: เงินฝากประจำ 8 เดือน | F28: 0
B29: เงินฝากประจำ 9 เดือน | D29: 0 | F29: 0
B30: เงินฝากประจำ 12 เดือน | D30: 0 | F30: 0
B31: รวม เงินลงทุนระยะสั้น | D31: =SUM(D27:D30) -> 300000000 | F31: =SUM(F27:F30) -> 300000000
F33: (หน่วย:บาท)
A34: หมายเหตุ 8 - สินทรัพย์หมุนเวียนอื่น | D34: 2565 | F34: 2564
B35: ค่าใช้จ่ายจ่ายล่วงหน้าระยะสั้น | D35: 2094687.6 | F35: 234714.29
B36: ค่าใช้จ่ายรอเรียกคืน | D36: 9428 | F36: 24000
B37: รวม สินทรัพย์หมุนเวียนอี่น | D37: =SUM(D35:D36) -> 2104115.6 | F37: =SUM(F35:F36) -> 258714.29
F39: 9

Sheet หมายเหตุ9-12
F2: (หน่วย:บาท)
A3: หมายเหตุ 9 - ที่ดิน อาคาร และอุปกรณ์ | D3: 2565 | F3: 2564
B5: อาคารและสิ่งปลูกสร้าง | D5: =1211874465.09+272617406.19+19944994.3+64943359.74+10085714.7 -> 1.5794659e+09 | F5: 1.5117345e+09
B6: หัก | C6: ค่าเสื่อมราคาสะสม - อาคารและสิ่งปลูกสร้าง | D6: -7.5088271e+08 | F6: -6.9456926e+08
B7: อาคาร และสิ่งปลูกสร้าง - สุทธิ | D7: =SUM(D5:D6) -> 8.2858323e+08 | F7: =SUM(F5:F6) -> 8.1716522e+08
B8: ครุภัณฑ์ | D8: =139387288.99+20582947.26+29054726.61+2923728.32+156132.77+187600+15509713.99+3507379.24+616851.4+283637249+133589188.32+122319220.12-75990 -> 7.5139604e+08 | F8: 7.6784252e+08
B9: หัก | C9: ค่าเสื่อมราคาสะสม - ครุภัณฑ์ | D9: =-657825985.51+6332.5 -> -6.5781965e+08 | F9: -6.4372669e+08
B10: ครุภัณฑ์ สุทธิ | D10: =SUM(D8:D9) -> 93576383 | F10: =SUM(F8:F9) -> 1.2411584e+08
B11: งานระหว่างก่อสร้าง | D11: =404041259.79+11569000 -> 4.1561026e+08 | F11: 2.3288381e+08
B12: รวม ที่ดิน อาคาร และอุปกรณ์ - สุทธิ | D12: =+D7+D10+D11 -> 1.3377699e+09 | F12: =+F7+F10+F11 -> 1.1741649e+09
F14: (หน่วย:บาท)
A15: หมายเหตุ 10 - สินทรัพย์ไม่มีตัวตน | D15: 2565 | F15: 2564
B17: โปรแกรมคอมพิวเตอร์ | D17: 59732250 | F17: 59586216
B18: หัก | C18: ค่าตัดจำหน่ายสะสม-โปรแกรมคอมพิวเตอร์ | D18: -55319008 | F18: -46135377
B19: รวม สินทรัพย์ไม่มีตัวตน (สุทธิ) | D19: =SUM(D17:D18) -> 4413242.4 | F19: =SUM(F17:F18) -> 13450839
F21: (หน่วย:บาท)
A22: หมายเหตุ 11 - สินทรัพย์ไม่หมุนเวียนอื่น | D22: 2565 | F22: 2564
B24: ลูกหนี้อื่น-ชดใช้ค่าเสียหาย | D24: 1111212.7 | F24: 1125991.2
B25: ลูกหนี้อื่น-รอคืนตั๋วเครื่องบิน | D25: 162945 | F25: 162945
B26: เงินจ่ายล่วงหน้าค่าก่อสร้างอาคาร | D26: 293238879 | F26: 264105720
B27: รวม สินทรัพย์ไม่หมุนเวียนอื่น | D27: =SUM(D24:D26) -> 2.9451304e+08 | F27: =SUM(F24:F26) -> 2.6539466e+08
F29: (หน่วย:บาท)
A30: หมายเหตุ 12 - เจ้าหนี้เงินโอนและรายการอุดหนุนระยะสั้น | D30: 2565 | F30: 2564
B31: รายได้แผ่นดินรอนำส่งคลัง | D31: 17093.09 | F31: 35226.54
B32: เจ้าหนี้เงินเหลือจ่ายโอนคืนกองทุน | D32: 57314448 | F32: 68743873
B33: รวม เจ้าหนี้เงินโอนและรายการอุดหนุนระยะสั้น | D33: =SUM(D31:D32) -> 57331541 | F33: =SUM(F31:F32) -> 68779099
F35: เจ้าหนี้เงินเหลือจ่ายฯ เป็นเงินเหลือจ่ายจากงบประมาณแผ่นดิน (รวมดอกผล) และเงินอุดหนุนจากกองทุนฯ
B36: ที่ดำเนินการแล้วมีเงินเหลือ ซึ่งมาตรา 79(3) แห่งพระราชบัญญัติประกอบรัฐธรรมนูญว่าด้วยการตรวจเงินแผ่นดิน พ.ศ.2561
B37: กำหนดให้โอนเข้ากองทุนพัฒนาเพื่อการตรวจเงินแผ่นดิน โดยบันทึกบัญชีคู่กับค่าใช้จ่ายเงินเหลือจ่ายคืนให้กองทุนฯ
F39: 10

Sheet หมายเหตุ13-17
F2: (หน่วย:บาท)
A3: หมายเหตุ 13 - เจ้าหนี้อื่นระยะสั้น | D3: 2565 | F3: 2564
B4: ค่าสาธารณูปโภคค้างจ่าย | D4: 8539537.5 | F4: 7510446.3
B5: ใบสำคัญค้างจ่าย | D5: 3879401.5 | F5: 2464860.7
B6: ค่าใช้จ่ายค้างจ่าย | D6: 10920506 | F6: 11082566
B7: ภาษีเงินได้ หัก ณ ที่จ่าย | D7: 3745104.1 | F7: 3649252.9
B8: รวม เจ้าหนี้อื่นระยะสั้น | D8: =SUM(D4:D7) -> 27084549 | F8: =SUM(F4:F7) -> 24707126
F10: (หน่วย:บาท)
A11: หมายเหตุ 14 - เงินรับฝากระยะสั้น | D11: 2565 | F11: 2564
B12: เงินประกันสัญญา | D12: 6493191.5 | F12: 5637803.8
B13: เงินประกันผลงาน | D13: 69058.16 | F13: 132507.4
B14: เงินรับฝากอื่น | D14: 252968.73 | F14: 929447.86
B15: รวม เงินรับฝากระยะสั้น | D15: =SUM(D12:D14) -> 6815218.4 | F15: =SUM(F12:F14) -> 6699759.1
F17: (หน่วย:บาท)
A18: หมายเหตุ 15 -หนี้สินหมุนเวียนอื่น | D18: 2565 | F18: 2564
B19: หนี้สินชดใช้ค่าเสียหาย-บุคคลภายนอก | D19: 38357.94 | F19: 73727.04
B20: รวม หนี้สินหมุนเวียนอื่น | D20: =SUM(D19) -> 38357.94 | F20: =SUM(F19) -> 73727.04
C22: เป็นกรณีรถยนต์ราชการประสบอุบัติเหตุได้รับความเสียหายตามคำพิพากษาแพ่งหมายเลขแดงที่ ม116/2563
B23: ลงวันที่ 18 กุมภาพันธ์ 2563 และหมายเลขแดงที่ ม171/2564 ลงวันที่ 5 ตุลาคม 2563 เป็นลูกหนี้ยอมความ
B24: ตามคำพิพากษา อยู่ระหว่างการผ่อนชำระให้ สตง.
F26: (หน่วย:บาท)
A27: หมายเหตุ 16 - เงินรับฝากระยะยาว | D27: 2565 | F27: 2564
B28: เงินรับฝากเงินประกันลูกจ้างระยะยาว | D28: 437202 | F28: 531203
B29: เงินประกันสัญญาระยะยาว | D29: 2797162 | F29: 0
B30: รวม เงินรับฝากระยะยาว | D30: =SUM(D28:D29) -> 3234364 | F30: =SUM(F28:F29) -> 531203
A32: หมายเหตุ 17 -หนี้สินไม่หมุนเวียนอื่น | D32: 2565 | F32: 2564
B33: หนี้สินชดใช้ค่าเสียหาย-บุคคลภายนอก | D33: 1111212.7 | F33: 1125991.2
B34: ค่าเช่าที่ดินค้างจ่ายตามสัญญาเช่าดำเนินงาน | D34: 38462225 | F34: 30979754
B35: รวม หนี้สินหมุนเวียนอื่น | D35: =SUM(D33:D34) -> 39573438 | F35: =SUM(F33:F34) -> 32105745
F37: ในปี 2565 หนี้สินชดใช้ค่าเสียหาย จำนวน 1.11 ล้านบาท เป็นกรณีรถยนต์ราชการประสบอุบัติเหตุได้รับ
B38: ความเสียหายตามคำพิพากษาคดีหมายเลขแดงที่ พ 325/2562 ลงวันที่ 1 มีนาคม 2562 จำนวน 0.62 ล้านบาท
B39: คดีหมายเลขแดงที่ 1617/2561 ลงวันที่18 ธันวาคม 2561 จำนวน 0.34 ล้านบาท ปัจจุบันอยู่ระหว่างการสืบทรัพย์
B40: เพื่อบังคับคดี คดีแพ่งหมายเลขแดงที่ม 116/2563 ลงวันที่ 18 กุมภาพันธ์ 2563 และคดีหมายเลขแดงที่ ม 171/2563
B41: ลงวันที่ 5 ตุลาคม 2563 เป็นลูกหนี้ยอมความตามคำพิพากษาจำนวน 0.15 ล้านบาท ปัจจุบันอยู่ระหว่างการผ่อนชำระ
B42: ให้ สตง.
F43: 11

Sheet หมายเหตุ18-21
F1: (หน่วย:บาท)
A2: หมายเหตุ 18 - รายได้จากเงินงบประมาณ | D2: 2565 | F2: 2564
B3: รายได้จากงบอุดหนุน | D3: 2476648600 | F3: 2510453700
B4: รายได้จากงบกลาง | D4: =1052736.37+807996684.2 -> 8.0904942e+08 | F4: 7.4834977e+08
B5: หัก เบิกเกินส่งคืนงบกลาง | D5: -1052736.4 | F5: -208688.78
B6: รวม รายได้จากเงินงบประมาณ | D6: =SUM(D3:D5) -> 3.2846453e+09 | F6: =SUM(F3:F5) -> 3.2585948e+09
F8: (หน่วย:บาท)
A9: หมายเหตุ 19 - รายได้จากการอุดหนุนและบริจาค | D9: 2565 | F9: 2564
B10: รายได้จากการรับบริจาค | D10: =565636.24-76680 -> 488956.24 | F10: 78804.58
B11: รายได้อุดหนุนจากกองทุนฯ เพื่อการดำเนินงาน | D11: 2.8165286e+08 | F11: 2.7837601e+08
B12: รวม รายได้จากการอุดหนุนและบริจาค | D12: =SUM(D10:D11) -> 2.8214182e+08 | F12: =SUM(F10:F11) -> 2.7845481e+08
F14: (หน่วย:บาท)
A15: หมายเหตุ 20 - รายได้อื่น | D15: 2565 | F15: 2564
B16: รายได้ดอกเบี้ยเงินฝากจากสถาบันการเงิน | D16: 3762376.1 | F16: 4709880.7
B17: รายได้อื่น | D17: 0 | F17: 1500
B18: รวม รายได้อื่น | D18: =SUM(D16:D17) -> 3762376.1 | F18: =SUM(F16:F17) -> 4711380.7
F20: (หน่วย:บาท)
A21: หมายเหตุ 21 - ค่าใช้จ่ายบุคลากร | D21: 2565 | F21: 2564
B22: เงินเดือน | D22: 1.2067879e+09 | F22: 1.1925021e+09
B23: ค่าล่วงเวลา | D23: 6024500 | F23: 2969270
B24: เงินประจำตำแหน่ง | D24: 27164234 | F24: 28658426
B25: ค่าจ้าง | D25: 1.2436214e+08 | F25: 1.3069998e+08
B26: เงินช่วยค่าครองชีพ | D26: 10329969 | F26: 10438701
B27: ค่ารักษาพยาบาล | D27: 1.2554522e+08 | F27: 1.1829842e+08
B28: เงินช่วยการศึกษาบุตร | D28: 7474784.8 | F28: 5743377.2
B29: เงินช่วยพิเศษกรณีเสียชีวิต | D29: 351052.8 | F29: 657720
B30: เงินชดเชย กบข. | D30: 21065188 | F30: 20431630
B31: เงินสมทบ กบข. | D31: 31597782 | F31: 30647444
B32: เงินสมทบ กสจ. | D32: 696191.92 | F32: 695693.66
B33: เงินสมทบกองทุนประกันสังคม | D33: 3822624 | F33: =-241535.84+3815020.84 -> 3573485
B34: เงินสมทบกองทุนเงินทดแทน | D34: 236116 | F34: 241535.84
B35: ค่าเช่าบ้าน | D35: 10284045 | F35: 10545843
B36: ค่าเบี้ยประกันชีวิตและสุขภาพ | D36: 679915.24 | F36: 674349.92
B37: เงินเพิ่ม | D37: 3360 | F37: 3360
B38: ค่าใช้จ่ายบุคลากรอื่น | D38: 6.1944568e+08 | F38: 6.1839049e+08
B39: รวม ค่าใช้จ่ายบุคลากร | D39: =SUM(D22:D38) -> 2.1958707e+09 | F39: =SUM(F22:F38) -> 2.1751718e+09
F42: 12
G123: =+'หมายเหตุ25-29'!F41+'หมายเหตุ25-29'!H41 -> 1.102531e+09

Sheet หมายเหตุ22-24
F1: (หน่วย:บาท)
A2: หมายเหตุ 22 - ค่าบำเหน็จบำนาญ | D2: 2565 | F2: 2564
B3: บำนาญ | D3: =458474620.4+3216 -> 4.5847784e+08 | F3: 4.2035551e+08
B4: เงินช่วยค่าครองชีพ | D4: 27858760 | F4: 29113997
B5: บำเหน็จ | D5: 6844763.3 | F5: 5550771.2
B6: บำเหน็จตกทอด | D6: 6480597.7 | F6: 17512776
B7: บำเหน็จดำรงชีพ | D7: 35324848 | F7: 29206880
B8: ค่ารักษาพยาบาล | D8: =61965313.82+15791584.96+3043796.75+1938846.1 -> 82739542 | F8: 66558865
B9: เงินช่วยการศึกษาบุตร | D9: 845446 | F9: 335180
B10: บำเหน็จบำนาญอื่น | D10: =1443623.4+1238948.04+12096.26 -> 2694667.7 | F10: 3032817.6
B11: รวม ค่าบำเหน็จบำนาญ | D11: =SUM(D3:D10) -> 6.2126646e+08 | F11: =SUM(F3:F10) -> 5.716668e+08
F13: (หน่วย:บาท)
A14: หมายเหตุ 23 - ค่าตอบแทน | D14: 2565 | F14: 2564
B15: ค่าตอบแทนที่ปรึกษา | D15: 198000 | F15: 60000
B16: ค่าเบี้ยประชุม | D16: 2061550 | F16: 1603050
B17: ค่าตอบแทนผู้ปฏิบัติงานให้ทางราชการ | D17: 3818600 | F17: =1916456+1649998 -> 3566454
B18: รวม ค่าตอบแทน | D18: =SUM(D15:D17) -> 6078150 | F18: =SUM(F15:F17) -> 5229504
F20: (หน่วย:บาท)
A21: หมายเหตุ 24 - ค่าใช้สอย | D21: 2565 | F21: 2564
B22: ค่าใช้จ่ายฝึกอบรม | D22: =209800+14075947.14+223414.4 -> 14509162 | F22: 14078044
B23: ค่าใช้จ่ายเดินทาง | D23: =52914263.11+2328251.4 -> 55242515 | F23: 49934366
B24: ค่าซ่อมแซมและบำรุงรักษา | D24: 12457530 | F24: 17629876
B25: ค่าแก๊สและน้ำมันเชื้อเพลิง | D25: 2851016.9 | F25: 1962109
B26: ค่าจ้างเหมาบริการ | D26: 59873501 | F26: 53654470
B27: ค่าธรรมเนียม | D27: 26321.15 | F27: 11388.63
B28: ค่าจ้างที่ปรึกษา | D28: 6408562 | F28: 3887690
B29: ค่าใช้จ่ายในการประชุม | D29: 4231738.8 | F29: 1033856.3
B30: ค่าเช่า | D30: 88923201 | F30: 86702715
B31: ค่าจัดหาสินทรัพย์มูลค่าต่ำกว่าเกณฑ์ | D31: 3687489.6 | F31: 10440126
B32: ค่าประชาสัมพันธ์ | D32: 239555.88 | F32: 845939.35
B33: ค่าใช้สอยอื่น | D33: 4915924.2 | F33: 3094912.8
B34: รวม ค่าใช้สอย | D34: =SUM(D22:D33) -> 2.5336652e+08 | F34: =SUM(F22:F33) -> 2.4327549e+08
C36: ค่าเช่า ในปี 2565 จำนวน 88.92 ล้านบาท เป็นค่าใช้จ่ายที่เกิดขึ้นระหว่างงวดตามสัญญาเช่าดำเนินงาน
B37: ประกอบด้วย ค่าเช่าที่ดิน 38.31 ล้านบาท (ค่าใช้จ่ายถึงกำหนดจ่ายตามสัญญา 30.83 ล้านบาทและค่าใช้จ่าย
B38: ที่รับรู้เพิ่มเติมตามหมายเหตุข้อ 4.7 จำนวน 7.48 ล้านบาท) ค่าเช่าอาคารจำนวน 8.46 ล้านบาท ค่าเช่ารถยนต์
B39: พร้อมคนขับ 3 สัญญา จำนวน 39.05 ล้านบาท และค่าเช่าอื่นจำนวน 3.10 ล้านบาท
F40: 13

Sheet หมายเหตุ25-29
H1: (หน่วย:บาท)
A2: หมายเหตุ 25 - ค่าสาธารณูปโภค | F2: 2565 | H2: 2564
B3: ค่าไฟฟ้า | F3: 25036665 | H3: 22118796
B4: ค่าน้ำประปา | F4: 1181333.9 | H4: 1187657
B5: ค่าโทรศัพท์ | F5: 14327060 | H5: 13340260
B6: ค่าบริการสื่อสารและโทรคมนาคม | F6: 33045575 | H6: 29030918
B7: ค่าบริการไปรษณีย์โทรเลขและขนส่ง | F7: 2388413.8 | H7: 2549832
B8: รวม ค่าสาธารณูปโภค | F8: =SUM(F3:F7) -> 75979048 | H8: =SUM(H3:H7) -> 68227463
H10: (หน่วย:บาท)
A11: หมายเหตุ 26 - ค่าเสื่อมราคาและค่าตัดจำหน่าย | F11: 2565 | H11: 2564
B12: อาคารและสิ่งปลูกสร้าง | F12: 53348606 | H12: 46819600
B13: ครุภัณฑ์ | F13: =38960309.61-6332.5 -> 38953977 | H13: 47220696
B14: สินทรัพย์ไม่มีตัวตน | F14: 9183631 | H14: 8325971.4
B15: รวม ค่าเสื่อมราคาและค่าตัดจำหน่าย | F15: =SUM(F12:F14) -> 1.0148621e+08 | H15: =SUM(H12:H14) -> 1.0236627e+08
H17: (หน่วย:บาท)
A18: หมายเหตุ 27 - ค่าใช้จ่ายอื่น | F18: 2565 | H18: 2564
B19: ค่าใช้จ่ายเงินเหลือจ่ายคืนให้กองทุน | F19: 72386908 | H19: 9395123.9
B20: ค่าใช้จ่ายจากการจำหน่ายสินทรัพย์ | F20: 234799.85 | H20: 285588.98
B21: รวม ค่าใช้จ่ายอื่น | F21: =SUM(F19:F20) -> 72621708 | H21: =SUM(H19:H20) -> 9680712.9
C23: ค่าใช้จ่ายเงินเหลือจ่ายฯ เป็นเงินงบประมาณรวมดอกผลที่ดำเนินการแล้วมีเหลือจ่ายซึ่งตามมาตรา 79(3)
B24: แห่งพระราชบัญญัติประกอบรัฐธรรมนูญว่าด้วยการตรวจเงินแผ่นดิน พ.ศ.2561 กำหนดให้โอนไปกองทุนฯ
B25: โดยบันทึกบัญชีคู่กับเจ้าหนี้เงินเหลือจ่ายโอนคืนกองทุน
A27: หมายเหตุ 28 - การแก้ไขข้อผิดพลาดของงวดก่อน
C28: ในปี 2565 สตง.พบว่า รายการรายได้สูง(ต่ำ)กว่าค่าใช้จ่ายสะสมยกมา มียอดต่ำกว่าตามที่รายงานไว้เดิมจำนวน
B29: 5,241.12 บาท เนื่องจากในปี 2564 สตง.มีการรับรู้รายได้และค่าใช้จ่ายระหว่างกันสูงไปด้วยจำนวนเดียวกัน ซึ่งเงิน
B30: จำนวนดังกล่าวเป็นเงินที่ต้องคืนให้กองทุนฯ ในปี 2565 สตง.ได้ปรับปรุงกับค่าใช้จ่ายเงินเหลือจ่ายคืนให้กองทุนฯ แล้ว
A32: หมายเหตุ 29- ภาระผูกพัน
C33: 1. ในปีงบประมาณ พ.ศ.2565 สำนักงานการตรวจเงินแผ่นดินมีภาระผูกพันรายการค่าใช้จ่ายที่ได้รับ
B34: อนุมัติกันเงินไว้เบิกเหลื่อมปีและขยายระยะเวลาเบิกจ่ายอีก 6 เดือน ประกอบด้วย
H36: (หน่วย:บาท)
D37: มีหนี้ผูกพัน | F37: ไม่มีหนี้ผูกพัน | H37: รวม
B39: 1. งบดำเนินงาน | D39: 1986589.3 | F39: 0 | H39: =+D39+F39 -> 1986589.3
B40: 2. งบลงทุน | D40: 8.0849384e+08 | F40: 146025300 | H40: =+D40+F40 -> 9.5451914e+08
D41: =SUM(D38:D40) -> 8.1048043e+08 | F41: =SUM(F38:F40) -> 146025300 | H41: =SUM(H38:H40) -> 9.5650573e+08
H43: 14

Sheet หมายเหตุ29ต่อ(2หน้า)
A2: หมายเหตุ 29 - ภาระผูกพัน (ต่อ)
C3: 2. ภาระผูกพันเกี่ยวกับสัญญาเช่าดำเนินงาน
C4: 2.1 สัญญาเช่าที่ดิน
C5: เมื่อวันที่ 13 มีนาคม 2560 สำนักงานการตรวจเงินแผ่นดิน (สตง.)ได้ทำสัญญาเช่าที่ดิน
B6: กับการรถไฟแห่งประเทศไทย (รฟท.) เลขที่สัญญา 901598031 ขนาดพื้นที่ 17,460 ตารางเมตร บริเวณย่าน
B7: พหลโยธิน เขตจตุจักร กรุงเทพมหานคร เพื่อก่อสร้างอาคารสำนักงานการตรวจเงินแผ่นดิน แต่เนื่องจาก สตง.
B8: ยังไม่สามารถเข้าไปดำเนินการก่อสร้างในพื้นที่เช่าได้ ต่อมาวันที่ 1 ตุลาคม 2561 สตง. และ รฟท.ได้ตกลง
B9: ร่วมกันแก้ไขสัญญาเช่าที่ดินเดิม โดยจัดทำบันทึกต่อท้ายสัญญาที่ดินระยะเวลาการเช่า 15 ปี เริ่ม 1 ตุลาคม 2561
B10: ถึงวันที่ 30 กันยายน 2576 ค่าเช่ารวมทึ่ต้องจ่ายเป็นจำนวนเงิน 582,803,975.00 บาท และปรับเพิ่มค่าเช่า
B11: ในอัตราร้อยละ 5 ของค่าเช่าครั้งสุดท้ายทุก 1 ปี สตง. ชำระงวดแรกเมื่อวันที่ 1 ตุลาคม 2561 ต่อมาปี 2563
B12: รฟท.มีหนังสือที่ บส.62/87447/2563 ลงวันที่ 26 มีนาคม 2563 แจ้งให้ สตง. ลงนามสัญญาเช่าที่ดินตาม
B13: บันทึกต่อท้ายสัญญาเช่าที่ดินฯ ฉบับลงวันที่ 13 มีนาคม 2560 (ครั้งที่สอง) ค่าเช่ารวมอัตราใหม่เป็นจำนวนเงิน
B14: 574,700,471.00 บาท เนื่องจากมีการเปลี่ยนแปลงขนาดพื้นที่เช่าเล็กลงกว่าพื้นที่เช่าตามสัญญาเดิมเป็นขนาด
B15: พื้นที่ 17,217.23 ตารางเมตร ซึ่ง สตง. มีจำนวนเงินขั้นต่ำที่ต้องจ่ายในอนาคตทั้งสิ้นภายใต้สัญญาเช่าดำเนินงาน
B16: ดังนี้
F17: (หน่วย:บาท)
D18: 2565 | F18: 2564
C19: จ่ายชำระภายใน 1 ปี | D19: 32372525 | F19: 30830894
C20: จ่ายชำระภายใน 2 - 5 ปี | D20: 146505889 | F20: 139529467
C21: จ่ายชำระภายใน 6 - 11 ปี | D21: 281030823 | F21: 320379770
D22: =SUM(D19:D21) -> 459909237 | F22: =SUM(F19:F21) -> 490740131
C23: 2.2 สัญญาเช่ารถยนต์พร้อมคนขับ
C24: สำนักงานการตรวจเงินแผ่นดิน (สตง.)ได้ทำสัญญาเช่ารถยนต์พร้อมคนขับจำนวน 3 สัญญา
B25: โดยมีระยะเวลาในการเช่าสัญญาละ 60 เดือน ดังนี้
C26: 1. สัญญาเช่าเลขที่ 015/2562 ลงวันที่ 29 เมษายน 2562 กับบริษัท สยามราชธานี จำกัด
B27: โดยเช่ารถยนต์โดยสารขนาด 12 ที่นั่ง (ดีเซล) จำนวน 61 คัน และรถบรรทุก (ดีเซล) จำนวน 25 คัน พร้อมคนขับ
B28: เริ่มเดือนมิถุนายน 2562 ถึงเดือนมิถุนายน 2567 รวมเป็นค่าเช่าทั้งหมดที่ต้องจ่าย 157,935,000.00 บาท
B29: โดย สตง.จ่ายค่าเช่าเป็นรายเดือน เดือนละ 2,632,250.00 บาท ในปีงบประมาณ 2565 ได้จ่ายค่าเช่ารถยนต์
B30: เป็นเงิน 31,587,000.00 บาท
C31: 2. สัญญาเช่าเลขที่ 022/2564 ลงวันที่ 15 ธันวาคม 2563 กับบริษัท ไทยเร้นท์อะคาร์
B32: คอร์ปอเรชั่น จำกัด โดยเช่ารถยนต์เก๋งยี่ห้อ Mercedes-Benz จำนวน 6 คัน เริ่มเดือนมกราคม 2564 ถึง
B33: เดือนธันวาคม 2568 รวมเป็นค่าเช่าทั้งหมดที่ต้องจ่าย 27,504,000.00 บาท โดยจ่ายค่าเช่าเป็นรายเดือน
B34: เดือนละ 458,400.00 บาท ในปีงบประมาณ 2565 ได้จ่ายค่าเช่าเป็นเงิน 5,500,800.00 บาท
F35: 15
C37: 2.2 สัญญาเช่ารถยนต์พร้อมคนขับ (ต่อ)
C38: 3. สัญญาเช่าเลขที่ 023/2564 ลงวันที่ 15 ธันวาคม 2563 กับบริษัท สยามคาร์เร้นท์
B39: จำกัด โดยเช่าเป็นรถยนต์เก๋งยี่ห้อ LEXUS จำนวน 1 คัน และรถยนต์เก๋งยี่ห้อ Mercedes-Benz จำนวน
B40: 1 คัน เริ่มเดือนมกราคม 2564 ถึง เดือนธันวาคม 2568 รวมเป็นค่าเช่าที่ต้องจ่าย 9,840,000.00 บาท
B41: โดยจ่ายค่าเช่าเป็นรายเดือนรวม เดือนละ 164,000.00 บาท ในปีงบประมาณ 2565 ได้จ่ายค่าเช่าเป็นเงิน
B42: 1,968,000.00 บาท
C43: สตง.มีจำนวนเงินขั้นต่ำที่ต้องจ่ายในอนาคตภายใต้สัญญาเช่าดำเนินงานทั้ง 3 สัญญา ดังนี้
F45: (หน่วย:บาท)
D46: 2565 | F46: 2564
C47: จ่ายชำระภายใน 1 ปี | D47: 39055800 | F47: =31587000+7468800 -> 39055800
C48: จ่ายชำระภายใน 2 - 4 ปี | D48: 38915700 | F48: =24273600+53697900 -> 77971500
D49: =SUM(D47:D48) -> 77971500 | F49: =+F47+F48 -> 117027300
B52: ...................................................
F70: 16

Sheet รายงานฐานะงปมP17
A1: สำนักงานการตรวจเงินแผ่นดิน
A2: รายงานฐานะเงินงบประมาณรายจ่าย
A3: สำหรับปีสิ้นสุดวันที่ 30 กันยายน 2565
A5: รายงานฐานะเงินงบประมาณรายจ่าย ประจำปีงบประมาณ พ.ศ. 2565
A7: รายการ | B7: งบสุทธิหลัง | C7: เงินกันไว้เบิก | D7: ใบสั่งซื้อ/สัญญา | E7: เบิกจ่าย | F7: คงเหลือ
B8: โอน | C8: เหลือมปี
B9: เปลี่ยนแปลง | C9: (การสำรองเงิน)
A10: แผนงานยุทธศาสตร์พัฒนาบริการประชาชนและการพัฒนาประสิทธิภาพภาครัฐ | B10: 67199400 | C10: 67199400 | D10: 0 | E10: 0 | F10: 0
A11: แผนงานยุทธศาสตร์เพื่อสนับสนุนด้านการปรับสมดุลและพัฒนาระบบการบริหารจัดการภาครัฐ | B11: 7.1816772e+08 | C11: 78825900 | D11: 2.2190571e+08 | E11: 3.8521678e+08 | F11: =+B11-C11-D11-E11 -> 32219326
A12: แผนงานบุคลากรภาครัฐ | B12: 2010531300 | C12: 0 | D12: 0 | E12: 1.9939099e+09 | F12: =+B12-C12-D12-E12 -> 16621366
A13: รวม | B13: 2.7958984e+09 | C13: 146025300 | D13: 2.2190571e+08 | E13: =SUM(E10:E12) -> 2.3791267e+09 | F13: =SUM(F10:F12) -> 48840692
A17: รายงานฐานะเงินกันไว้เบิกเหลื่อมปี 2564
A19: รายการ | B19: เงินกันไว้ | C19: เบิกจ่าย | D19: ไม่ได้รับการอนุมัติให้ขยายเวลา | E19: คงเหลือ
B20: เบิกเหลือมปี
B21: (สุทธิ)
A22: 1.แผนงานยุทธศาสตร์พัฒนาบริการประชาชนและการพัฒนาประสิทธิภาพภาครัฐ | B22: 0 | C22: 0 | E22: 0
A23: 2.แผนงานบูรณาการต่อต้านการทุจริตและประพฤติมิชอบ | B23: 6900384.9 | C23: 6900384.9 | D23: 0 | E23: 0
A24: 3.แผนงานพื้นฐานด้านการปรับสมดุลและพัฒนาระบบการบริหารจัดการภาครัฐ | B24: 2.2977526e+08 | C24: 1.0091529e+08 | D24: 52054278 | E24: =+B24-C24-D24 -> 76805695
A25: 4.แผนงานบุคลากรภาครัฐ | B25: 0 | C25: 0 | D25: 0 | E25: 0
A26: รวม | B26: =SUM(B22:B25) -> 2.3667564e+08 | C26: =SUM(C22:C25) -> 1.0781567e+08 | D26: 52054278 | E26: 76805695
A29: รายงานฐานะเงินงบประมาณรายจ่าย ประจำปีงบประมาณ พ.ศ. 2564
A31: รายการ | B31: งบสุทธิหลัง | C31: เงินกันไว้เบิก | D31: ใบสั่งซื้อ/สัญญา | E31: เบิกจ่าย | F31: คงเหลือ
B32: โอน | C32: เหลือมปี
B33: เปลี่ยนแปลง | C33: (การสำรองเงิน)
A34: 1.แผนงานบูรณาการต่อต้านการทุจริตและประพฤติมิชอบ | B34: 1309800 | C34: 0 | D34: 0 | E34: 551294 | F34: =B34-C34-D34-E34 -> 758506
A35: 2.แผนงานยุทธศาสตร์เพื่อสนับสนุนด้านการปรับสมดุลและพัฒนาระบบการบริหารจัดการภาครัฐ | B35: 125322400 | C35: 0 | D35: 6900384.9 | E35: 1.1666756e+08 | F35: =B35-C35-D35-E35 -> 1754450.6
A36: 3.แผนงานพื้นฐานด้านการปรับสมดุลและพัฒนาระบบการบริหารจัดการภาครัฐ | B36: 731589900 | C36: 30500000 | D36: =130223529.2+[1]กองทุน!D6 -> 1.9927526e+08 | E36: 4.4505872e+08 | F36: =B36-C36-D36-E36 -> 56755923
A37: 4.แผนงานบุคลากรภาครัฐ | B37: 1990509200 | C37: 0 | D37: 0 | E37: 1.9857456e+09 | F37: =B37-C37-D37-E37 -> 4763612.5
A38: รวม | B38: =SUM(B34:B37) -> 2848731300 | C38: =SUM(C34:C37) -> 30500000 | D38: =SUM(D34:D37) -> 2.0617564e+08 | E38: =SUM(E34:E37) -> 2.5480232e+09 | F38: =SUM(F34:F37) -> 64032492
F41: 17

Sheet รายงานรายได้แผ่นดิน 18
A1: สำนักงานการตรวจเงินแผ่นดิน
A2: รายงานรายได้แผ่นดิน
A3: สำหรับปีสิ้นสุดวันที่ 30 กันยายน 2565
H5: (หน่วย:บาท)
E6: หมายเหตุ | F6: 2565 | H6: 2564
A7: รายได้แผ่นดินที่จัดเก็บ
C8: รายได้แผ่นดิน - ภาษี | F8: 0 | H8: 0
C9: รายได้แผ่นดิน - นอกจากภาษี
D10: รายได้จากการขายสินค้าและบริการ | F10: 3826027.5 | H10: 1214639.8
D11: รายได้ดอกเบี้ย | F11: 16684.69 | H11: 10504.43
D12: รายได้อื่น | F12: 1755311.2 | H12: =3494952.24+225828.5 -> 3720780.7
C13: รวม รายได้แผ่นดิน - นอกจากภาษี | F13: =SUM(F10:F12) -> 5598023.4 | H13: =SUM(H10:H12) -> 4945925
A14: รวม รายได้แผ่นดินที่จัดเก็บ | F14: =+F13 -> 5598023.4 | H14: =+H13 -> 4945925
B15: หัก | C15: รายได้ถอนคืนจากคลัง | F15: 0 | H15: 0
C16: รายได้แผ่นดินจัดสรรตามกฎหมาย | F16: 0 | H16: 0
A17: รายได้แผ่นดินจัดเก็บสุทธิ | F17: =+F14-F16-F15 -> 5598023.4 | H17: =+H14-H16-H15 -> 4945925
C18: รายได้แผ่นดินนำส่งคลัง | F18: 5580930.3 | H18: 4910698.4
A19: รายได้แผ่นดินรอนำส่งคลัง | F19: =+F17-F18 -> 17093.09 | H19: =+H17-H18 -> 35226.54
B20: ปรับ | C20: รายได้แผ่นดินรอนำส่งคลัง | E20: 12 | F20: =+F19 -> 17093.09 | H20: =+H19 -> 35226.54
A21: รายการรายได้แผ่นดินสุทธิ | F21: 0 | H21: 0
A22: รายได้แผ่นดิน - นอกจากภาษี
B23: รายได้จากการขายสินค้าและบริการ | F23: =+#REF! -> #REF! | H23: 5629710.8
B24: รายได้ดอกเบี้ย | F24: =+#REF! -> #REF! | H24: 32701448
B25: รายได้อื่น | F25: =+#REF! -> #REF! | H25: 2935221.2
B26: รวม รายได้แผ่นดิน - นอกจากภาษี | F26: =SUM(F23:F25) -> #REF! | H26: =SUM(H23:H25) -> 41266380
A28: หมายเหตุประกอบงบการเงินเป็นส่วนหนึ่งของรายงานการเงินนี้
H33: 18
